BEGIN:VCALENDAR
VERSION:2.0
PRODID:-//Jordi Mateu | Educación Viva, Libro, Conferencias y Proyectos Educativos - ECPv6.15.20//NONSGML v1.0//EN
CALSCALE:GREGORIAN
METHOD:PUBLISH
X-WR-CALNAME:Jordi Mateu | Educación Viva, Libro, Conferencias y Proyectos Educativos
X-ORIGINAL-URL:https://jordimateu.info
X-WR-CALDESC:Eventos para Jordi Mateu | Educación Viva, Libro, Conferencias y Proyectos Educativos
REFRESH-INTERVAL;VALUE=DURATION:PT1H
X-Robots-Tag:noindex
X-PUBLISHED-TTL:PT1H
BEGIN:VTIMEZONE
TZID:Europe/Helsinki
BEGIN:DAYLIGHT
TZOFFSETFROM:+0200
TZOFFSETTO:+0300
TZNAME:EEST
DTSTART:20250330T010000
END:DAYLIGHT
BEGIN:STANDARD
TZOFFSETFROM:+0300
TZOFFSETTO:+0200
TZNAME:EET
DTSTART:20251026T010000
END:STANDARD
BEGIN:DAYLIGHT
TZOFFSETFROM:+0200
TZOFFSETTO:+0300
TZNAME:EEST
DTSTART:20260329T010000
END:DAYLIGHT
BEGIN:STANDARD
TZOFFSETFROM:+0300
TZOFFSETTO:+0200
TZNAME:EET
DTSTART:20261025T010000
END:STANDARD
BEGIN:DAYLIGHT
TZOFFSETFROM:+0200
TZOFFSETTO:+0300
TZNAME:EEST
DTSTART:20270328T010000
END:DAYLIGHT
BEGIN:STANDARD
TZOFFSETFROM:+0300
TZOFFSETTO:+0200
TZNAME:EET
DTSTART:20271031T010000
END:STANDARD
END:VTIMEZONE
BEGIN:VEVENT
DTSTART;TZID=Europe/Helsinki:20260321T093000
DTEND;TZID=Europe/Helsinki:20260321T143000
DTSTAMP:20260423T114307
CREATED:20260316T094606Z
LAST-MODIFIED:20260316T102855Z
UID:10000006-1774085400-1774103400@jordimateu.info
SUMMARY:Taller Conflictos. Madrid
DESCRIPTION:Taller sobre conflictos y acompañamiento emocional. en La Semilla. Madrid
URL:https://jordimateu.info/event/taller-conflictos-y-acompanamiento-emocional-madrid/
ATTACH;FMTTYPE=image/jpeg:https://jordimateu.info/wp-content/uploads/2026/03/conflictos-2-e1773656919339.jpg
END:VEVENT
END:VCALENDAR